BEGIN:VCALENDAR
VERSION:2.0
PRODID:-//Queen Annes County Housing Authority - ECPv6.15.20//NONSGML v1.0//EN
CALSCALE:GREGORIAN
METHOD:PUBLISH
X-WR-CALNAME:Queen Annes County Housing Authority
X-ORIGINAL-URL:https://qacha.org
X-WR-CALDESC:Events for Queen Annes County Housing Authority
REFRESH-INTERVAL;VALUE=DURATION:PT1H
X-Robots-Tag:noindex
X-PUBLISHED-TTL:PT1H
BEGIN:VTIMEZONE
TZID:America/New_York
BEGIN:DAYLIGHT
TZOFFSETFROM:-0500
TZOFFSETTO:-0400
TZNAME:EDT
DTSTART:20240310T070000
END:DAYLIGHT
BEGIN:STANDARD
TZOFFSETFROM:-0400
TZOFFSETTO:-0500
TZNAME:EST
DTSTART:20241103T060000
END:STANDARD
BEGIN:DAYLIGHT
TZOFFSETFROM:-0500
TZOFFSETTO:-0400
TZNAME:EDT
DTSTART:20250309T070000
END:DAYLIGHT
BEGIN:STANDARD
TZOFFSETFROM:-0400
TZOFFSETTO:-0500
TZNAME:EST
DTSTART:20251102T060000
END:STANDARD
BEGIN:DAYLIGHT
TZOFFSETFROM:-0500
TZOFFSETTO:-0400
TZNAME:EDT
DTSTART:20260308T070000
END:DAYLIGHT
BEGIN:STANDARD
TZOFFSETFROM:-0400
TZOFFSETTO:-0500
TZNAME:EST
DTSTART:20261101T060000
END:STANDARD
END:VTIMEZONE
BEGIN:VEVENT
DTSTART;TZID=America/New_York:20250930T100000
DTEND;TZID=America/New_York:20250930T113000
DTSTAMP:20260420T143040
CREATED:20250911T171412Z
LAST-MODIFIED:20250922T173111Z
UID:10000197-1759226400-1759231800@qacha.org
SUMMARY:Landlord Brunch & Learn
DESCRIPTION:Understanding the Housing Choice Voucher System\nLandlords and agents are welcomed to join the Housing Authority & Division of Housing in Queen Anne’s County for an informational session on the HUD Housing Choice Voucher System and many other services offered by Housing Programs in Queen Anne’s County. There will be Free Refreshments for all attendees. \nPlease RSVP by contacting Ms. Hasani Poku at hpoku@qac.org or by calling 410-758-8634. \nPlease see the flyer below for more information. \nFLYER
URL:https://qacha.org/event/landlord-brunch-learn-understanding-the-housing-choice-voucher-system/
LOCATION:QAC Public Housing Office\, 104 Powell St\, Centreville\, MD\, 21617\, United States
CATEGORIES:Other
END:VEVENT
END:VCALENDAR