BEGIN:VCALENDAR
VERSION:2.0
PRODID:-//Queen Annes County Housing Authority - ECPv6.15.20//NONSGML v1.0//EN
CALSCALE:GREGORIAN
METHOD:PUBLISH
X-ORIGINAL-URL:https://qacha.org
X-WR-CALDESC:Events for Queen Annes County Housing Authority
REFRESH-INTERVAL;VALUE=DURATION:PT1H
X-Robots-Tag:noindex
X-PUBLISHED-TTL:PT1H
BEGIN:VTIMEZONE
TZID:America/New_York
BEGIN:DAYLIGHT
TZOFFSETFROM:-0500
TZOFFSETTO:-0400
TZNAME:EDT
DTSTART:20240310T070000
END:DAYLIGHT
BEGIN:STANDARD
TZOFFSETFROM:-0400
TZOFFSETTO:-0500
TZNAME:EST
DTSTART:20241103T060000
END:STANDARD
BEGIN:DAYLIGHT
TZOFFSETFROM:-0500
TZOFFSETTO:-0400
TZNAME:EDT
DTSTART:20250309T070000
END:DAYLIGHT
BEGIN:STANDARD
TZOFFSETFROM:-0400
TZOFFSETTO:-0500
TZNAME:EST
DTSTART:20251102T060000
END:STANDARD
BEGIN:DAYLIGHT
TZOFFSETFROM:-0500
TZOFFSETTO:-0400
TZNAME:EDT
DTSTART:20260308T070000
END:DAYLIGHT
BEGIN:STANDARD
TZOFFSETFROM:-0400
TZOFFSETTO:-0500
TZNAME:EST
DTSTART:20261101T060000
END:STANDARD
END:VTIMEZONE
BEGIN:VEVENT
DTSTART;TZID=America/New_York:20251101T090000
DTEND;TZID=America/New_York:20251101T130000
DTSTAMP:20260420T130607
CREATED:20250828T184124Z
LAST-MODIFIED:20250828T184124Z
UID:10000196-1761987600-1762002000@qacha.org
SUMMARY:Make a Difference Day Event 2025
DESCRIPTION:The Queen Anne’s County Make a Difference Day aims to assist individuals in the community who are experiencing homelessness\, near homelessness\, or are low-income and living paycheck to paycheck by providing them access to local and regional resources that they may not have access to due to their current life situation. Make a Difference Day hosts an annual one-day event with the achievable goal of giving short and long-term benefits to those that attend. \nTo learn more\, please visit their website.
URL:https://qacha.org/event/make-a-difference-day-event-2025/
LOCATION:Sudlersville Middle School\, 600 Charles Street\, Sudlersville\, MD\, 21617\, United States
END:VEVENT
END:VCALENDAR