BEGIN:VCALENDAR
VERSION:2.0
PRODID:-//Queen Annes County Housing Authority - ECPv6.15.20//NONSGML v1.0//EN
CALSCALE:GREGORIAN
METHOD:PUBLISH
X-ORIGINAL-URL:https://qacha.org
X-WR-CALDESC:Events for Queen Annes County Housing Authority
REFRESH-INTERVAL;VALUE=DURATION:PT1H
X-Robots-Tag:noindex
X-PUBLISHED-TTL:PT1H
BEGIN:VTIMEZONE
TZID:UTC
BEGIN:STANDARD
TZOFFSETFROM:+0000
TZOFFSETTO:+0000
TZNAME:UTC
DTSTART:20240101T000000
END:STANDARD
END:VTIMEZONE
BEGIN:VTIMEZONE
TZID:America/New_York
BEGIN:DAYLIGHT
TZOFFSETFROM:-0500
TZOFFSETTO:-0400
TZNAME:EDT
DTSTART:20250309T070000
END:DAYLIGHT
BEGIN:STANDARD
TZOFFSETFROM:-0400
TZOFFSETTO:-0500
TZNAME:EST
DTSTART:20251102T060000
END:STANDARD
BEGIN:DAYLIGHT
TZOFFSETFROM:-0500
TZOFFSETTO:-0400
TZNAME:EDT
DTSTART:20260308T070000
END:DAYLIGHT
BEGIN:STANDARD
TZOFFSETFROM:-0400
TZOFFSETTO:-0500
TZNAME:EST
DTSTART:20261101T060000
END:STANDARD
BEGIN:DAYLIGHT
TZOFFSETFROM:-0500
TZOFFSETTO:-0400
TZNAME:EDT
DTSTART:20270314T070000
END:DAYLIGHT
BEGIN:STANDARD
TZOFFSETFROM:-0400
TZOFFSETTO:-0500
TZNAME:EST
DTSTART:20271107T060000
END:STANDARD
END:VTIMEZONE
BEGIN:VEVENT
DTSTART;TZID=UTC:20260415T180000
DTEND;TZID=UTC:20260415T180000
DTSTAMP:20260421T163141
CREATED:20250227T020437Z
LAST-MODIFIED:20250227T020635Z
UID:10000082-1776276000-1776276000@qacha.org
SUMMARY:Terrapin Grove Tenant Council
DESCRIPTION:
URL:https://qacha.org/event/terrapin-grove-tenant-council/2026-04-15/
CATEGORIES:Terrapin Grove
END:VEVENT
BEGIN:VEVENT
DTSTART;TZID=America/New_York:20260324T130000
DTEND;TZID=America/New_York:20260324T130000
DTSTAMP:20260421T163141
CREATED:20260311T201953Z
LAST-MODIFIED:20260311T201953Z
UID:10000217-1774357200-1774357200@qacha.org
SUMMARY:"Click With Character" Digital Safety Event - Terrapin Grove Community Room
DESCRIPTION:Don’t Fall for Scams: Learn How to Protect Yourself Presentation — March 25th \nWe are pleased to invite you to a special presentation on Tuesday\, March 24th\, at 1:00 PM in the Community Room at Terrapin Grove. \nThis session is part of our partnership with Melinda Ray\, Character Counts! Coordinator\, for a March campaign focused on digital responsibility. The initiative is designed to educate seniors about the increasing risks of digital scams through texts and emails. \nDuring the presentation\, you will learn: \n\nHow to identify potential digital scams\nWarning signs to watch for in texts and emails\nWhere to seek help if you encounter suspicious messages\nSteps you can take to better protect your personal information\n\nScams are becoming more common\, and staying informed is one of the best ways to protect yourself. We encourage all tenants to attend and take advantage of this important and helpful presentation.
URL:https://qacha.org/event/click-with-character-digital-safety-event-terrapin-grove-community-room/
CATEGORIES:Terrapin Grove
END:VEVENT
BEGIN:VEVENT
DTSTART;TZID=UTC:20260318T180000
DTEND;TZID=UTC:20260318T180000
DTSTAMP:20260421T163141
CREATED:20250227T020437Z
LAST-MODIFIED:20250227T020635Z
UID:10000081-1773856800-1773856800@qacha.org
SUMMARY:Terrapin Grove Tenant Council
DESCRIPTION:
URL:https://qacha.org/event/terrapin-grove-tenant-council/2026-03-18/
CATEGORIES:Terrapin Grove
END:VEVENT
BEGIN:VEVENT
DTSTART;TZID=UTC:20260218T180000
DTEND;TZID=UTC:20260218T180000
DTSTAMP:20260421T163141
CREATED:20250227T020437Z
LAST-MODIFIED:20250227T020635Z
UID:10000080-1771437600-1771437600@qacha.org
SUMMARY:Terrapin Grove Tenant Council
DESCRIPTION:
URL:https://qacha.org/event/terrapin-grove-tenant-council/2026-02-18/
CATEGORIES:Terrapin Grove
END:VEVENT
BEGIN:VEVENT
DTSTART;TZID=UTC:20260121T180000
DTEND;TZID=UTC:20260121T180000
DTSTAMP:20260421T163141
CREATED:20250227T020437Z
LAST-MODIFIED:20250227T020635Z
UID:10000079-1769018400-1769018400@qacha.org
SUMMARY:Terrapin Grove Tenant Council
DESCRIPTION:
URL:https://qacha.org/event/terrapin-grove-tenant-council/2026-01-21/
CATEGORIES:Terrapin Grove
END:VEVENT
BEGIN:VEVENT
DTSTART;TZID=UTC:20251217T180000
DTEND;TZID=UTC:20251217T180000
DTSTAMP:20260421T163141
CREATED:20250227T020437Z
LAST-MODIFIED:20250227T020635Z
UID:10000078-1765994400-1765994400@qacha.org
SUMMARY:Terrapin Grove Tenant Council
DESCRIPTION:
URL:https://qacha.org/event/terrapin-grove-tenant-council/2025-12-17/
CATEGORIES:Terrapin Grove
END:VEVENT
BEGIN:VEVENT
DTSTART;TZID=UTC:20251119T180000
DTEND;TZID=UTC:20251119T180000
DTSTAMP:20260421T163141
CREATED:20250227T020437Z
LAST-MODIFIED:20250227T020635Z
UID:10000077-1763575200-1763575200@qacha.org
SUMMARY:Terrapin Grove Tenant Council
DESCRIPTION:
URL:https://qacha.org/event/terrapin-grove-tenant-council/2025-11-19/
CATEGORIES:Terrapin Grove
END:VEVENT
BEGIN:VEVENT
DTSTART;TZID=UTC:20251015T180000
DTEND;TZID=UTC:20251015T180000
DTSTAMP:20260421T163141
CREATED:20250227T020437Z
LAST-MODIFIED:20250227T020635Z
UID:10000076-1760551200-1760551200@qacha.org
SUMMARY:Terrapin Grove Tenant Council
DESCRIPTION:
URL:https://qacha.org/event/terrapin-grove-tenant-council/2025-10-15/
CATEGORIES:Terrapin Grove
END:VEVENT
BEGIN:VEVENT
DTSTART;TZID=UTC:20250917T180000
DTEND;TZID=UTC:20250917T180000
DTSTAMP:20260421T163141
CREATED:20250227T020437Z
LAST-MODIFIED:20250227T020635Z
UID:10000075-1758132000-1758132000@qacha.org
SUMMARY:Terrapin Grove Tenant Council
DESCRIPTION:
URL:https://qacha.org/event/terrapin-grove-tenant-council/2025-09-17/
CATEGORIES:Terrapin Grove
END:VEVENT
BEGIN:VEVENT
DTSTART;TZID=UTC:20250820T180000
DTEND;TZID=UTC:20250820T180000
DTSTAMP:20260421T163141
CREATED:20250227T020437Z
LAST-MODIFIED:20250227T020635Z
UID:10000074-1755712800-1755712800@qacha.org
SUMMARY:Terrapin Grove Tenant Council
DESCRIPTION:
URL:https://qacha.org/event/terrapin-grove-tenant-council/2025-08-20/
CATEGORIES:Terrapin Grove
END:VEVENT
BEGIN:VEVENT
DTSTART;TZID=UTC:20250716T180000
DTEND;TZID=UTC:20250716T180000
DTSTAMP:20260421T163141
CREATED:20250227T020437Z
LAST-MODIFIED:20250227T020635Z
UID:10000073-1752688800-1752688800@qacha.org
SUMMARY:Terrapin Grove Tenant Council
DESCRIPTION:
URL:https://qacha.org/event/terrapin-grove-tenant-council/2025-07-16/
CATEGORIES:Terrapin Grove
END:VEVENT
BEGIN:VEVENT
DTSTART;TZID=UTC:20250618T180000
DTEND;TZID=UTC:20250618T180000
DTSTAMP:20260421T163141
CREATED:20250227T020437Z
LAST-MODIFIED:20250227T020635Z
UID:10000072-1750269600-1750269600@qacha.org
SUMMARY:Terrapin Grove Tenant Council
DESCRIPTION:
URL:https://qacha.org/event/terrapin-grove-tenant-council/2025-06-18/
CATEGORIES:Terrapin Grove
END:VEVENT
BEGIN:VEVENT
DTSTART;TZID=UTC:20250521T180000
DTEND;TZID=UTC:20250521T180000
DTSTAMP:20260421T163141
CREATED:20250227T020437Z
LAST-MODIFIED:20250227T020635Z
UID:10000071-1747850400-1747850400@qacha.org
SUMMARY:Terrapin Grove Tenant Council
DESCRIPTION:
URL:https://qacha.org/event/terrapin-grove-tenant-council/2025-05-21/
CATEGORIES:Terrapin Grove
END:VEVENT
BEGIN:VEVENT
DTSTART;TZID=UTC:20250416T180000
DTEND;TZID=UTC:20250416T180000
DTSTAMP:20260421T163141
CREATED:20250227T020437Z
LAST-MODIFIED:20250227T020635Z
UID:10000070-1744826400-1744826400@qacha.org
SUMMARY:Terrapin Grove Tenant Council
DESCRIPTION:
URL:https://qacha.org/event/terrapin-grove-tenant-council/2025-04-16/
CATEGORIES:Terrapin Grove
END:VEVENT
BEGIN:VEVENT
DTSTART;TZID=UTC:20250319T180000
DTEND;TZID=UTC:20250319T180000
DTSTAMP:20260421T163141
CREATED:20250227T020437Z
LAST-MODIFIED:20250227T020635Z
UID:10000069-1742407200-1742407200@qacha.org
SUMMARY:Terrapin Grove Tenant Council
DESCRIPTION:
URL:https://qacha.org/event/terrapin-grove-tenant-council/2025-03-19/
CATEGORIES:Terrapin Grove
END:VEVENT
BEGIN:VEVENT
DTSTART;TZID=UTC:20250219T180000
DTEND;TZID=UTC:20250219T180000
DTSTAMP:20260421T163141
CREATED:20250227T020437Z
LAST-MODIFIED:20250227T020635Z
UID:10000068-1739988000-1739988000@qacha.org
SUMMARY:Terrapin Grove Tenant Council
DESCRIPTION:
URL:https://qacha.org/event/terrapin-grove-tenant-council/2025-02-19/
CATEGORIES:Terrapin Grove
END:VEVENT
END:VCALENDAR