BEGIN:VCALENDAR
VERSION:2.0
PRODID:-//Queen Annes County Housing Authority - ECPv6.15.20//NONSGML v1.0//EN
CALSCALE:GREGORIAN
METHOD:PUBLISH
X-WR-CALNAME:Queen Annes County Housing Authority
X-ORIGINAL-URL:https://qacha.org
X-WR-CALDESC:Events for Queen Annes County Housing Authority
REFRESH-INTERVAL;VALUE=DURATION:PT1H
X-Robots-Tag:noindex
X-PUBLISHED-TTL:PT1H
BEGIN:VTIMEZONE
TZID:UTC
BEGIN:STANDARD
TZOFFSETFROM:+0000
TZOFFSETTO:+0000
TZNAME:UTC
DTSTART:20250101T000000
END:STANDARD
END:VTIMEZONE
BEGIN:VEVENT
DTSTART;TZID=UTC:20260513T190000
DTEND;TZID=UTC:20260513T190000
DTSTAMP:20260421T163012
CREATED:20250227T015743Z
LAST-MODIFIED:20250227T180959Z
UID:10000022-1778698800-1778698800@qacha.org
SUMMARY:Foxxtown Tenant Council
DESCRIPTION:
URL:https://qacha.org/event/foxxtown-tenant-council/2026-05-13/
CATEGORIES:Foxxtown
END:VEVENT
BEGIN:VEVENT
DTSTART;TZID=UTC:20260610T190000
DTEND;TZID=UTC:20260610T190000
DTSTAMP:20260421T163012
CREATED:20250227T015743Z
LAST-MODIFIED:20250227T180959Z
UID:10000023-1781118000-1781118000@qacha.org
SUMMARY:Foxxtown Tenant Council
DESCRIPTION:
URL:https://qacha.org/event/foxxtown-tenant-council/2026-06-10/
CATEGORIES:Foxxtown
END:VEVENT
BEGIN:VEVENT
DTSTART;TZID=UTC:20260708T190000
DTEND;TZID=UTC:20260708T190000
DTSTAMP:20260421T163012
CREATED:20250227T015743Z
LAST-MODIFIED:20250227T180959Z
UID:10000024-1783537200-1783537200@qacha.org
SUMMARY:Foxxtown Tenant Council
DESCRIPTION:
URL:https://qacha.org/event/foxxtown-tenant-council/2026-07-08/
CATEGORIES:Foxxtown
END:VEVENT
BEGIN:VEVENT
DTSTART;TZID=UTC:20260812T190000
DTEND;TZID=UTC:20260812T190000
DTSTAMP:20260421T163012
CREATED:20250227T015743Z
LAST-MODIFIED:20250227T180959Z
UID:10000025-1786561200-1786561200@qacha.org
SUMMARY:Foxxtown Tenant Council
DESCRIPTION:
URL:https://qacha.org/event/foxxtown-tenant-council/2026-08-12/
CATEGORIES:Foxxtown
END:VEVENT
BEGIN:VEVENT
DTSTART;TZID=UTC:20260909T190000
DTEND;TZID=UTC:20260909T190000
DTSTAMP:20260421T163012
CREATED:20250227T015743Z
LAST-MODIFIED:20250227T180959Z
UID:10000026-1788980400-1788980400@qacha.org
SUMMARY:Foxxtown Tenant Council
DESCRIPTION:
URL:https://qacha.org/event/foxxtown-tenant-council/2026-09-09/
CATEGORIES:Foxxtown
END:VEVENT
BEGIN:VEVENT
DTSTART;TZID=UTC:20261014T190000
DTEND;TZID=UTC:20261014T190000
DTSTAMP:20260421T163012
CREATED:20250227T015743Z
LAST-MODIFIED:20250227T180959Z
UID:10000027-1792004400-1792004400@qacha.org
SUMMARY:Foxxtown Tenant Council
DESCRIPTION:
URL:https://qacha.org/event/foxxtown-tenant-council/2026-10-14/
CATEGORIES:Foxxtown
END:VEVENT
BEGIN:VEVENT
DTSTART;TZID=UTC:20261111T190000
DTEND;TZID=UTC:20261111T190000
DTSTAMP:20260421T163012
CREATED:20250227T015743Z
LAST-MODIFIED:20250227T180959Z
UID:10000028-1794423600-1794423600@qacha.org
SUMMARY:Foxxtown Tenant Council
DESCRIPTION:
URL:https://qacha.org/event/foxxtown-tenant-council/2026-11-11/
CATEGORIES:Foxxtown
END:VEVENT
BEGIN:VEVENT
DTSTART;TZID=UTC:20261209T190000
DTEND;TZID=UTC:20261209T190000
DTSTAMP:20260421T163012
CREATED:20250227T015743Z
LAST-MODIFIED:20250227T180959Z
UID:10000029-1796842800-1796842800@qacha.org
SUMMARY:Foxxtown Tenant Council
DESCRIPTION:
URL:https://qacha.org/event/foxxtown-tenant-council/2026-12-09/
CATEGORIES:Foxxtown
END:VEVENT
BEGIN:VEVENT
DTSTART;TZID=UTC:20270113T190000
DTEND;TZID=UTC:20270113T190000
DTSTAMP:20260421T163012
CREATED:20250227T015743Z
LAST-MODIFIED:20250227T180959Z
UID:10000030-1799866800-1799866800@qacha.org
SUMMARY:Foxxtown Tenant Council
DESCRIPTION:
URL:https://qacha.org/event/foxxtown-tenant-council/2027-01-13/
CATEGORIES:Foxxtown
END:VEVENT
BEGIN:VEVENT
DTSTART;TZID=UTC:20270210T190000
DTEND;TZID=UTC:20270210T190000
DTSTAMP:20260421T163012
CREATED:20250227T015743Z
LAST-MODIFIED:20250227T180959Z
UID:10000031-1802286000-1802286000@qacha.org
SUMMARY:Foxxtown Tenant Council
DESCRIPTION:
URL:https://qacha.org/event/foxxtown-tenant-council/2027-02-10/
CATEGORIES:Foxxtown
END:VEVENT
BEGIN:VEVENT
DTSTART;TZID=UTC:20270310T190000
DTEND;TZID=UTC:20270310T190000
DTSTAMP:20260421T163012
CREATED:20250227T015743Z
LAST-MODIFIED:20250227T180959Z
UID:10000032-1804705200-1804705200@qacha.org
SUMMARY:Foxxtown Tenant Council
DESCRIPTION:
URL:https://qacha.org/event/foxxtown-tenant-council/2027-03-10/
CATEGORIES:Foxxtown
END:VEVENT
BEGIN:VEVENT
DTSTART;TZID=UTC:20270414T190000
DTEND;TZID=UTC:20270414T190000
DTSTAMP:20260421T163012
CREATED:20250227T015743Z
LAST-MODIFIED:20250227T180959Z
UID:10000033-1807729200-1807729200@qacha.org
SUMMARY:Foxxtown Tenant Council
DESCRIPTION:
URL:https://qacha.org/event/foxxtown-tenant-council/2027-04-14/
CATEGORIES:Foxxtown
END:VEVENT
BEGIN:VEVENT
DTSTART;TZID=UTC:20270512T190000
DTEND;TZID=UTC:20270512T190000
DTSTAMP:20260421T163012
CREATED:20250227T015743Z
LAST-MODIFIED:20250227T180959Z
UID:10000034-1810148400-1810148400@qacha.org
SUMMARY:Foxxtown Tenant Council
DESCRIPTION:
URL:https://qacha.org/event/foxxtown-tenant-council/2027-05-12/
CATEGORIES:Foxxtown
END:VEVENT
BEGIN:VEVENT
DTSTART;TZID=UTC:20270609T190000
DTEND;TZID=UTC:20270609T190000
DTSTAMP:20260421T163012
CREATED:20250227T015743Z
LAST-MODIFIED:20250227T180959Z
UID:10000035-1812567600-1812567600@qacha.org
SUMMARY:Foxxtown Tenant Council
DESCRIPTION:
URL:https://qacha.org/event/foxxtown-tenant-council/2027-06-09/
CATEGORIES:Foxxtown
END:VEVENT
BEGIN:VEVENT
DTSTART;TZID=UTC:20270714T190000
DTEND;TZID=UTC:20270714T190000
DTSTAMP:20260421T163012
CREATED:20250227T015743Z
LAST-MODIFIED:20250227T180959Z
UID:10000036-1815591600-1815591600@qacha.org
SUMMARY:Foxxtown Tenant Council
DESCRIPTION:
URL:https://qacha.org/event/foxxtown-tenant-council/2027-07-14/
CATEGORIES:Foxxtown
END:VEVENT
BEGIN:VEVENT
DTSTART;TZID=UTC:20270811T190000
DTEND;TZID=UTC:20270811T190000
DTSTAMP:20260421T163012
CREATED:20250227T015743Z
LAST-MODIFIED:20250227T180959Z
UID:10000037-1818010800-1818010800@qacha.org
SUMMARY:Foxxtown Tenant Council
DESCRIPTION:
URL:https://qacha.org/event/foxxtown-tenant-council/2027-08-11/
CATEGORIES:Foxxtown
END:VEVENT
BEGIN:VEVENT
DTSTART;TZID=UTC:20270908T190000
DTEND;TZID=UTC:20270908T190000
DTSTAMP:20260421T163012
CREATED:20250227T015743Z
LAST-MODIFIED:20250227T180959Z
UID:10000038-1820430000-1820430000@qacha.org
SUMMARY:Foxxtown Tenant Council
DESCRIPTION:
URL:https://qacha.org/event/foxxtown-tenant-council/2027-09-08/
CATEGORIES:Foxxtown
END:VEVENT
BEGIN:VEVENT
DTSTART;TZID=UTC:20271013T190000
DTEND;TZID=UTC:20271013T190000
DTSTAMP:20260421T163012
CREATED:20250227T015743Z
LAST-MODIFIED:20250227T180959Z
UID:10000039-1823454000-1823454000@qacha.org
SUMMARY:Foxxtown Tenant Council
DESCRIPTION:
URL:https://qacha.org/event/foxxtown-tenant-council/2027-10-13/
CATEGORIES:Foxxtown
END:VEVENT
BEGIN:VEVENT
DTSTART;TZID=UTC:20271110T190000
DTEND;TZID=UTC:20271110T190000
DTSTAMP:20260421T163013
CREATED:20250227T015743Z
LAST-MODIFIED:20250227T180959Z
UID:10000040-1825873200-1825873200@qacha.org
SUMMARY:Foxxtown Tenant Council
DESCRIPTION:
URL:https://qacha.org/event/foxxtown-tenant-council/2027-11-10/
CATEGORIES:Foxxtown
END:VEVENT
BEGIN:VEVENT
DTSTART;TZID=UTC:20271208T190000
DTEND;TZID=UTC:20271208T190000
DTSTAMP:20260421T163013
CREATED:20250227T015743Z
LAST-MODIFIED:20250227T180959Z
UID:10000041-1828292400-1828292400@qacha.org
SUMMARY:Foxxtown Tenant Council
DESCRIPTION:
URL:https://qacha.org/event/foxxtown-tenant-council/2027-12-08/
CATEGORIES:Foxxtown
END:VEVENT
BEGIN:VEVENT
DTSTART;TZID=UTC:20280112T190000
DTEND;TZID=UTC:20280112T190000
DTSTAMP:20260421T163013
CREATED:20250227T015743Z
LAST-MODIFIED:20250227T180959Z
UID:10000042-1831316400-1831316400@qacha.org
SUMMARY:Foxxtown Tenant Council
DESCRIPTION:
URL:https://qacha.org/event/foxxtown-tenant-council/2028-01-12/
CATEGORIES:Foxxtown
END:VEVENT
BEGIN:VEVENT
DTSTART;TZID=UTC:20280209T190000
DTEND;TZID=UTC:20280209T190000
DTSTAMP:20260421T163013
CREATED:20250227T015743Z
LAST-MODIFIED:20250227T180959Z
UID:10000043-1833735600-1833735600@qacha.org
SUMMARY:Foxxtown Tenant Council
DESCRIPTION:
URL:https://qacha.org/event/foxxtown-tenant-council/2028-02-09/
CATEGORIES:Foxxtown
END:VEVENT
BEGIN:VEVENT
DTSTART;TZID=UTC:20280308T190000
DTEND;TZID=UTC:20280308T190000
DTSTAMP:20260421T163013
CREATED:20250227T015743Z
LAST-MODIFIED:20250227T180959Z
UID:10000044-1836154800-1836154800@qacha.org
SUMMARY:Foxxtown Tenant Council
DESCRIPTION:
URL:https://qacha.org/event/foxxtown-tenant-council/2028-03-08/
CATEGORIES:Foxxtown
END:VEVENT
BEGIN:VEVENT
DTSTART;TZID=UTC:20280412T190000
DTEND;TZID=UTC:20280412T190000
DTSTAMP:20260421T163013
CREATED:20250227T015743Z
LAST-MODIFIED:20250227T180959Z
UID:10000045-1839178800-1839178800@qacha.org
SUMMARY:Foxxtown Tenant Council
DESCRIPTION:
URL:https://qacha.org/event/foxxtown-tenant-council/2028-04-12/
CATEGORIES:Foxxtown
END:VEVENT
BEGIN:VEVENT
DTSTART;TZID=UTC:20280510T190000
DTEND;TZID=UTC:20280510T190000
DTSTAMP:20260421T163013
CREATED:20250227T015743Z
LAST-MODIFIED:20250227T180959Z
UID:10000046-1841598000-1841598000@qacha.org
SUMMARY:Foxxtown Tenant Council
DESCRIPTION:
URL:https://qacha.org/event/foxxtown-tenant-council/2028-05-10/
CATEGORIES:Foxxtown
END:VEVENT
BEGIN:VEVENT
DTSTART;TZID=UTC:20280614T190000
DTEND;TZID=UTC:20280614T190000
DTSTAMP:20260421T163013
CREATED:20250227T015743Z
LAST-MODIFIED:20250227T180959Z
UID:10000047-1844622000-1844622000@qacha.org
SUMMARY:Foxxtown Tenant Council
DESCRIPTION:
URL:https://qacha.org/event/foxxtown-tenant-council/2028-06-14/
CATEGORIES:Foxxtown
END:VEVENT
BEGIN:VEVENT
DTSTART;TZID=UTC:20280712T190000
DTEND;TZID=UTC:20280712T190000
DTSTAMP:20260421T163013
CREATED:20250227T015743Z
LAST-MODIFIED:20250227T180959Z
UID:10000048-1847041200-1847041200@qacha.org
SUMMARY:Foxxtown Tenant Council
DESCRIPTION:
URL:https://qacha.org/event/foxxtown-tenant-council/2028-07-12/
CATEGORIES:Foxxtown
END:VEVENT
BEGIN:VEVENT
DTSTART;TZID=UTC:20280809T190000
DTEND;TZID=UTC:20280809T190000
DTSTAMP:20260421T163013
CREATED:20250227T015743Z
LAST-MODIFIED:20250227T180959Z
UID:10000049-1849460400-1849460400@qacha.org
SUMMARY:Foxxtown Tenant Council
DESCRIPTION:
URL:https://qacha.org/event/foxxtown-tenant-council/2028-08-09/
CATEGORIES:Foxxtown
END:VEVENT
BEGIN:VEVENT
DTSTART;TZID=UTC:20280913T190000
DTEND;TZID=UTC:20280913T190000
DTSTAMP:20260421T163013
CREATED:20250227T015743Z
LAST-MODIFIED:20250227T180959Z
UID:10000050-1852484400-1852484400@qacha.org
SUMMARY:Foxxtown Tenant Council
DESCRIPTION:
URL:https://qacha.org/event/foxxtown-tenant-council/2028-09-13/
CATEGORIES:Foxxtown
END:VEVENT
BEGIN:VEVENT
DTSTART;TZID=UTC:20281011T190000
DTEND;TZID=UTC:20281011T190000
DTSTAMP:20260421T163013
CREATED:20250227T015743Z
LAST-MODIFIED:20250227T180959Z
UID:10000051-1854903600-1854903600@qacha.org
SUMMARY:Foxxtown Tenant Council
DESCRIPTION:
URL:https://qacha.org/event/foxxtown-tenant-council/2028-10-11/
CATEGORIES:Foxxtown
END:VEVENT
END:VCALENDAR